BEGIN:VCALENDAR
VERSION:2.0
PRODID:EVENTFROG//EVENT//ICAL
BEGIN:VEVENT
UID:20260419T230304Z-7451024742767697836@eventfrog.at
DTSTAMP:20260419T230304Z
DTSTART:20260510T103000Z
DTEND:20260510T113000Z
SUMMARY:Tanzfest «Slow Landscapes»
DESCRIPTION:Tanzfest «Slow Landscapes»\n\nhttps://eventfrog.at/de/p/diverses/tanzfest-slow-landscapes-7451024742767697836.html
LOCATION:Kunst Museum Winterthur | Reinhart am Stadtgarten
GEO:47.500500;8.729010
URL:https://eventfrog.at/de/p/diverses/tanzfest-slow-landscapes-7451024742767697836.html
END:VEVENT
END:VCALENDAR