BEGIN:VCALENDAR
VERSION:2.0
PRODID:EVENTFROG//EVENT//ICAL
BEGIN:VEVENT
UID:20260425T132239Z-7451023593947827442@eventfrog.at
DTSTAMP:20260425T132239Z
DTSTART:20260523T150000Z
SUMMARY:Mandisi Dyantyis: Roots & Routes
DESCRIPTION:Reihe Jazz im Museum.\n\nhttps://eventfrog.at/de/p/konzerte/mandisi-dyantyis-roots-routes-7451023593947827442.html
LOCATION:Vorarlberg Museum
GEO:47.504427;9.746743
URL:https://eventfrog.at/de/p/konzerte/mandisi-dyantyis-roots-routes-7451023593947827442.html
END:VEVENT
END:VCALENDAR