BEGIN:VCALENDAR
VERSION:2.0
PRODID:EVENTFROG//EVENT//ICAL
BEGIN:VEVENT
UID:20260424T105045Z-7451009834562943696@eventfrog.at
DTSTAMP:20260424T105045Z
DTSTART:20260909T120000Z
DTEND:20260909T130000Z
SUMMARY:Märchenspaziergang mit Rosmarie Walter
DESCRIPTION:Märchenspaziergang mit Rosmarie Walter\n\nhttps://eventfrog.at/de/p/kinderveranstaltungen/kinderfuehrung/maerchenspaziergang-mit-rosmarie-walter-7451009834562943696.html
LOCATION:Schloss Wartenfels
GEO:47.390063;7.933937
URL:https://eventfrog.at/de/p/kinderveranstaltungen/kinderfuehrung/maerchenspaziergang-mit-rosmarie-walter-7451009834562943696.html
END:VEVENT
END:VCALENDAR