BEGIN:VCALENDAR
VERSION:2.0
PRODID:EVENTFROG//EVENT//ICAL
BEGIN:VEVENT
UID:20260421T173601Z-7450937926173652842@eventfrog.at
DTSTAMP:20260421T173601Z
DTSTART:20260425T183000Z
DTEND:20260425T213000Z
SUMMARY:FRESHH - Premium Disco, Pop & Rock
DESCRIPTION:FRESHH - Premium Disco, Pop & Rock\n\nhttps://eventfrog.at/de/p/konzerte/pop-rock/freshh-premium-disco-pop-rock-7450937926173652842.html
LOCATION:Nana's Stübchen
GEO:52.390304;9.568870
URL:https://eventfrog.at/de/p/konzerte/pop-rock/freshh-premium-disco-pop-rock-7450937926173652842.html
END:VEVENT
END:VCALENDAR