BEGIN:VCALENDAR
VERSION:2.0
PRODID:EVENTFROG//EVENT//ICAL
BEGIN:VEVENT
UID:20260421T190106Z-7450923268213571787@eventfrog.at
DTSTAMP:20260421T190106Z
DTSTART:20260802T100000Z
DTEND:20260802T203000Z
SUMMARY:Dinner in the Sky Köln
DESCRIPTION:Dinner in the Sky kombiniert beste Kulinarik mit 360-Grad-Panorama in Köln, Düsseldorf und Hamburg - ein unvergessliches Erlebnis 2026.\n\nhttps://eventfrog.at/de/p/essen-trinken/dinner-in-the-sky-koeln-7450923268213571787.html
LOCATION:MediaPark
GEO:50.947783;6.943199
URL:https://eventfrog.at/de/p/essen-trinken/dinner-in-the-sky-koeln-7450923268213571787.html
END:VEVENT
END:VCALENDAR