BEGIN:VCALENDAR
VERSION:2.0
PRODID:EVENTFROG//EVENT//ICAL
BEGIN:VEVENT
UID:20260424T085000Z-7450914085196042437@eventfrog.at
DTSTAMP:20260424T085000Z
DTSTART:20260618T070000Z
DTEND:20260618T150000Z
SUMMARY:Embarcadero DevTracks Roadshow Köln
DESCRIPTION:Embarcadero Deutschland lädt zur DevTracks Roadshow in Köln mit GM Ben Schwenk und Neuigkeiten zu Delphi und C++Builder ein.\n\nhttps://eventfrog.at/de/p/wissenschaft-und-technik/embarcadero-devtracks-roadshow-koeln-7450914085196042437.html
LOCATION:Anno 1858, Brauhaus zur Malzmühle
GEO:50.935873;6.962610
URL:https://eventfrog.at/de/p/wissenschaft-und-technik/embarcadero-devtracks-roadshow-koeln-7450914085196042437.html
END:VEVENT
END:VCALENDAR