BEGIN:VCALENDAR
VERSION:2.0
PRODID:EVENTFROG//EVENT//ICAL
BEGIN:VEVENT
UID:20260422T103702Z-7450890884579631062@eventfrog.at
DTSTAMP:20260422T103702Z
DTSTART:20260711T173000Z
DTEND:20260712T212000Z
SUMMARY:Latinoboat
DESCRIPTION:Erleben Sie eine Bootsfahrt mit lateinamerikanischer Musik, Showeinlagen, Bordküche und Cocktails bei Sonnenuntergang.\n\nhttps://eventfrog.at/de/p/partys/latin-brasil/latinoboat-7450890884579631062.html
LOCATION:Rorschach Hafen
GEO:47.478652;9.493739
URL:https://eventfrog.at/de/p/partys/latin-brasil/latinoboat-7450890884579631062.html
END:VEVENT
END:VCALENDAR