BEGIN:VCALENDAR
VERSION:2.0
PRODID:EVENTFROG//EVENT//ICAL
BEGIN:VEVENT
UID:20260419T233624Z-7450889724187664063@eventfrog.at
DTSTAMP:20260419T233624Z
DTSTART:20260725T100500Z
DTEND:20260725T150100Z
SUMMARY:Erlebnisrundfahrt Ostschweiz
DESCRIPTION:Entdecken Sie die Ostschweiz aus zwei verschiedenen Perspektiven: vom Wasser und vom Land.\n\nhttps://eventfrog.at/de/p/freizeit-ausfluege/ausflug/erlebnisrundfahrt-ostschweiz-7450889724187664063.html
LOCATION:Hafen Romanshorn
GEO:47.564570;9.380650
URL:https://eventfrog.at/de/p/freizeit-ausfluege/ausflug/erlebnisrundfahrt-ostschweiz-7450889724187664063.html
END:VEVENT
END:VCALENDAR