BEGIN:VCALENDAR
VERSION:2.0
PRODID:EVENTFROG//EVENT//ICAL
BEGIN:VEVENT
UID:20260420T155829Z-7450882218140955035@eventfrog.at
DTSTAMP:20260420T155829Z
DTSTART:20260918T170000Z
DTEND:20260918T183000Z
SUMMARY:Dieter Landenberger: Ferdinand Porsche und der Volkswagen
DESCRIPTION:Eine sachliche Spurensuche vom „Auto für viele“ über die NS-Zeit bis zum Nachkriegs-Käfer.\n\nhttps://eventfrog.at/de/p/fuehrungen-vortraege/vortrag/dieter-landenberger-ferdinand-porsche-und-der-volkswagen-7450882218140955035.html
LOCATION:PS.SPEICHER
GEO:51.819872;9.861300
URL:https://eventfrog.at/de/p/fuehrungen-vortraege/vortrag/dieter-landenberger-ferdinand-porsche-und-der-volkswagen-7450882218140955035.html
END:VEVENT
END:VCALENDAR