BEGIN:VCALENDAR
VERSION:2.0
PRODID:EVENTFROG//EVENT//ICAL
BEGIN:VEVENT
UID:20260422T100904Z-7450872696039027575@eventfrog.at
DTSTAMP:20260422T100904Z
DTSTART:20260610T150000Z
DTEND:20260610T170000Z
SUMMARY:Achtsamer Silentwalk am Abend - Be touched by Nature
DESCRIPTION:Waldbaden-Kurs: Kurzurlaub für Körper, Geist & Seele, ideal für Shinrin Yoku-Neulinge und Gesundheitsbewusste. Innehalten, Naturverbundenheit erleben, zur Ruhe kommen und Energie tanken.\n\nhttps://eventfrog.at/de/p/gesundheit-spiritualitaet/gesundheit-wohlbefinden/achtsamer-silentwalk-am-abend-be-touched-by-nature-7450872696039027575.html
LOCATION:Grillplatz Vitaparcours Entlisbergwald
GEO:47.334678;8.523438
URL:https://eventfrog.at/de/p/gesundheit-spiritualitaet/gesundheit-wohlbefinden/achtsamer-silentwalk-am-abend-be-touched-by-nature-7450872696039027575.html
END:VEVENT
END:VCALENDAR