BEGIN:VCALENDAR
VERSION:2.0
PRODID:EVENTFROG//EVENT//ICAL
BEGIN:VEVENT
UID:20260424T105221Z-7450863245735279712@eventfrog.at
DTSTAMP:20260424T105221Z
DTSTART:20260823T123000Z
DTEND:20260823T133000Z
SUMMARY:Nationale Tage der offenen Gärten
DESCRIPTION:Gartenführung mit der Schlossgärtnerin\n\nhttps://eventfrog.at/de/p/fuehrungen-vortraege/fuehrung/nationale-tage-der-offenen-gaerten-7450863245735279712.html
LOCATION:Schloss Wartenfels
GEO:47.390063;7.933937
URL:https://eventfrog.at/de/p/fuehrungen-vortraege/fuehrung/nationale-tage-der-offenen-gaerten-7450863245735279712.html
END:VEVENT
END:VCALENDAR