BEGIN:VCALENDAR
VERSION:2.0
PRODID:EVENTFROG//EVENT//ICAL
BEGIN:VEVENT
UID:20260420T074055Z-7450832853212882185@eventfrog.at
DTSTAMP:20260420T074055Z
DTSTART:20260510T100000Z
DTEND:20260510T130000Z
SUMMARY:Muttertag im Grand Hotel National
DESCRIPTION:Am 10. Mai laden wir zu Muttertags-Brunch, Massage und Frühlingsfreuden auf der Seeterrasse ein.\n\nhttps://eventfrog.at/de/p/essen-trinken/muttertag-im-grand-hotel-national-7450832853212882185.html
LOCATION:Grand Hotel National Luzern
GEO:47.054668;8.312328
URL:https://eventfrog.at/de/p/essen-trinken/muttertag-im-grand-hotel-national-7450832853212882185.html
END:VEVENT
END:VCALENDAR