BEGIN:VCALENDAR
VERSION:2.0
PRODID:EVENTFROG//EVENT//ICAL
BEGIN:VEVENT
UID:20260424T152219Z-7450802809862145856@eventfrog.at
DTSTAMP:20260424T152219Z
DTSTART:20270130T090000Z
DTEND:20270130T150000Z
SUMMARY:7. Jobmesse Hannover
DESCRIPTION:Alle Wege zu Deiner Karriere auf der Jobmesse Hannover am 30. März 2027 in der Heinz von Heiden Arena!\n\nhttps://eventfrog.at/de/p/messen/messe/7-jobmesse-hannover-7450802809862145856.html
LOCATION:Heinz von Heiden Arena
GEO:52.362111;9.733077
URL:https://eventfrog.at/de/p/messen/messe/7-jobmesse-hannover-7450802809862145856.html
END:VEVENT
END:VCALENDAR