BEGIN:VCALENDAR
VERSION:2.0
PRODID:EVENTFROG//EVENT//ICAL
BEGIN:VEVENT
UID:20260424T163739Z-7450800240456684564@eventfrog.at
DTSTAMP:20260424T163739Z
DTSTART:20270123T090000Z
DTEND:20270123T150000Z
SUMMARY:30. Job- und Bildungsmesse Leipzig - zweiter Messetag
DESCRIPTION:Alle Wege zu Deiner Karriere auf der originalen Job- und Bildungsmesse Leipzig am 22. und 23. Januar im Congress Center der Leipziger Messe.\n\nhttps://eventfrog.at/de/p/messen/messe/30-job-und-bildungsmesse-leipzig-zweiter-messetag-7450800240456684564.html
LOCATION:Congress Center der Leipziger Messe
GEO:51.397937;12.399374
URL:https://eventfrog.at/de/p/messen/messe/30-job-und-bildungsmesse-leipzig-zweiter-messetag-7450800240456684564.html
END:VEVENT
END:VCALENDAR