BEGIN:VCALENDAR
VERSION:2.0
PRODID:EVENTFROG//EVENT//ICAL
BEGIN:VEVENT
UID:20260419T204341Z-7450665229069875414@eventfrog.at
DTSTAMP:20260419T204341Z
DTSTART:20260729T120000Z
DTEND:20260729T140000Z
SUMMARY:Offene Gartennachmittag für Kinder
DESCRIPTION:Gemeinsam Gärtnern & den Naturgarten entdecken, mit z'Vieri.\n\nhttps://eventfrog.at/de/p/diverses/offene-gartennachmittag-fuer-kinder-7450665229069875414.html
LOCATION:Areal Bach
GEO:47.435348;9.392530
URL:https://eventfrog.at/de/p/diverses/offene-gartennachmittag-fuer-kinder-7450665229069875414.html
END:VEVENT
END:VCALENDAR