BEGIN:VCALENDAR
VERSION:2.0
PRODID:EVENTFROG//EVENT//ICAL
BEGIN:VEVENT
UID:20260425T164620Z-7450663857255670516@eventfrog.at
DTSTAMP:20260425T164620Z
DTSTART:20260513T190000Z
SUMMARY:Frackwoche: Opening Party
DESCRIPTION:Frackwoche: Opening Party\n\nhttps://eventfrog.at/de/p/partys/frackwoche-opening-party-7450663857255670516.html
LOCATION:Salzhaus
GEO:47.497550;8.722280
URL:https://eventfrog.at/de/p/partys/frackwoche-opening-party-7450663857255670516.html
END:VEVENT
END:VCALENDAR