BEGIN:VCALENDAR
VERSION:2.0
PRODID:EVENTFROG//EVENT//ICAL
BEGIN:VEVENT
UID:20260423T005451Z-7450620235470620737@eventfrog.at
DTSTAMP:20260423T005451Z
DTSTART:20260424T210000Z
DTEND:20260425T020000Z
SUMMARY:Afro-Latino Party
DESCRIPTION:Afro-Latino Party\n\nhttps://eventfrog.at/fr/p/soirees-fetes/fete-des-etudiants/afro-latino-party-7450620235470620737.html
LOCATION:Arcade 46
GEO:46.186716;6.158953
URL:https://eventfrog.at/fr/p/soirees-fetes/fete-des-etudiants/afro-latino-party-7450620235470620737.html
END:VEVENT
END:VCALENDAR