BEGIN:VCALENDAR
VERSION:2.0
PRODID:EVENTFROG//EVENT//ICAL
BEGIN:VEVENT
UID:20260425T181142Z-7450617519935649024@eventfrog.at
DTSTAMP:20260425T181142Z
DTSTART:20260516T170000Z
DTEND:20260516T183000Z
SUMMARY:Magic in the Moonlight the Mysterium Show
DESCRIPTION:Am 16.05.26 um 19 Uhr verzaubert die Mystery-Show mit Magie, Illusionen und Comedy im mystisch beleuchteten Waldplatz von Rottweil. Mit Cocktails & Streetfood\n\nhttps://eventfrog.at/de/p/theater-buehne/buehnenveranstaltung/magic-in-the-moonlight-the-mysterium-show-7450617519935649024.html
LOCATION:Waldplatz Rottweil
GEO:48.172509;8.620066
URL:https://eventfrog.at/de/p/theater-buehne/buehnenveranstaltung/magic-in-the-moonlight-the-mysterium-show-7450617519935649024.html
END:VEVENT
END:VCALENDAR