BEGIN:VCALENDAR
VERSION:2.0
PRODID:EVENTFROG//EVENT//ICAL
BEGIN:VEVENT
UID:20260424T123142Z-7450605396455108877@eventfrog.at
DTSTAMP:20260424T123142Z
DTSTART:20260508T180000Z
DTEND:20260508T223000Z
SUMMARY:Discofox Tanz Party
DESCRIPTION:Im Bootshaus84 in Hannover erwartet Tanz-Fans eine heiße Party mit Discofox, Charts und Schlagerhits. Tanz in 2 Räumen, Musikwünsche erwünscht. Kommt vorbei!\n\nhttps://eventfrog.at/de/p/partys/sonstige-partys/discofox-tanz-party-7450605396455108877.html
LOCATION:Bootshaus 84, Deutscher Ruder-Club von 1884 e.V. Hannover
GEO:52.362530;9.723080
URL:https://eventfrog.at/de/p/partys/sonstige-partys/discofox-tanz-party-7450605396455108877.html
END:VEVENT
END:VCALENDAR