BEGIN:VCALENDAR
VERSION:2.0
PRODID:EVENTFROG//EVENT//ICAL
BEGIN:VEVENT
UID:20260419T145747Z-7450573388156811953@eventfrog.at
DTSTAMP:20260419T145747Z
DTSTART:20260507T180000Z
DTEND:20260507T200000Z
SUMMARY:„Immer bist du da“ by Lumiara Films
DESCRIPTION:20:00 Uhr \nKino Central \n\n\nhttps://eventfrog.at/de/p/diverses/immer-bist-du-da-by-lumiara-films-7450573388156811953.html
LOCATION:Kino Central
GEO:52.524230;13.402646
URL:https://eventfrog.at/de/p/diverses/immer-bist-du-da-by-lumiara-films-7450573388156811953.html
END:VEVENT
END:VCALENDAR