BEGIN:VCALENDAR
VERSION:2.0
PRODID:EVENTFROG//EVENT//ICAL
BEGIN:VEVENT
UID:20260424T072523Z-7450548131228347893@eventfrog.at
DTSTAMP:20260424T072523Z
DTSTART:20260926T080000Z
DTEND:20260926T150000Z
SUMMARY:Versorgt. Verdingt. Vergessen?
DESCRIPTION:Die Schau erlaubt einen vielstimmigen und zugleich wissenschaftlich fundierten Zugang zu diesem Kapitel der Schweizer Geschichte, welches das Leben von vielen Menschen stark geprägt hat.\n\nhttps://eventfrog.at/de/p/kunst-ausstellungen/ausstellung/versorgt-verdingt-vergessen-7450548131228347893.html
LOCATION:Museum Luzern
GEO:47.051683;8.301061
URL:https://eventfrog.at/de/p/kunst-ausstellungen/ausstellung/versorgt-verdingt-vergessen-7450548131228347893.html
END:VEVENT
END:VCALENDAR