BEGIN:VCALENDAR
VERSION:2.0
PRODID:EVENTFROG//EVENT//ICAL
BEGIN:VEVENT
UID:20260419T201818Z-7450541872890571632@eventfrog.at
DTSTAMP:20260419T201818Z
DTSTART:20260509T200000Z
DTEND:20260510T030000Z
SUMMARY:AFROFUNK - Edition Feux rouges
DESCRIPTION:AFRO FUNK – ÉDITION FEUX ROUGES\n\nUne nuit où tout devient simple :\ntu choisis ta vibe.\n\nAfrobeats ou funk ?\nRouge, jaune ou vert ?\n\nFribourg, on monte la température.\nIci, on vient pour danser !\n\nhttps://eventfrog.at/fr/p/soirees-fetes/latino-bresil/afrofunk-edition-feux-rouges-7450541872890571632.html
LOCATION:Cotton Club
GEO:46.805374;7.156527
URL:https://eventfrog.at/fr/p/soirees-fetes/latino-bresil/afrofunk-edition-feux-rouges-7450541872890571632.html
END:VEVENT
END:VCALENDAR