BEGIN:VCALENDAR
VERSION:2.0
PRODID:EVENTFROG//EVENT//ICAL
BEGIN:VEVENT
UID:20260424T123142Z-7450533156313116742@eventfrog.at
DTSTAMP:20260424T123142Z
DTSTART:20260530T080000Z
DTEND:20260530T120000Z
SUMMARY:Flohmarkt in Mariendorf-ost
DESCRIPTION:Auf dem Schulhof der Carl-Sonnenschein-Grundschule steigt ein bunter Flohmarkt mit Ständen, Snacks und Unterstützung für Schulprojekte.\n\nhttps://eventfrog.at/de/p/maerkte/flohmarkt/flohmarkt-in-mariendorf-ost-7450533156313116742.html
LOCATION:Carl-Sonnenschein-Grundschule
GEO:52.443889;13.408327
URL:https://eventfrog.at/de/p/maerkte/flohmarkt/flohmarkt-in-mariendorf-ost-7450533156313116742.html
END:VEVENT
END:VCALENDAR