BEGIN:VCALENDAR
VERSION:2.0
PRODID:EVENTFROG//EVENT//ICAL
BEGIN:VEVENT
UID:20260419T141121Z-7450531068002714885@eventfrog.at
DTSTAMP:20260419T141121Z
DTSTART:20270519T173000Z
DTEND:20270519T203000Z
SUMMARY:Die Ärzte
DESCRIPTION:Eine Gänsehaut nach dem Anderen!\n\nhttps://eventfrog.at/de/p/konzerte/pop-rock/die-aerzte-7450531068002714885.html
LOCATION:Hallenstadion
GEO:47.411600;8.551660
URL:https://eventfrog.at/de/p/konzerte/pop-rock/die-aerzte-7450531068002714885.html
END:VEVENT
END:VCALENDAR