BEGIN:VCALENDAR
VERSION:2.0
PRODID:EVENTFROG//EVENT//ICAL
BEGIN:VEVENT
UID:20260426T004834Z-7450517443171093425@eventfrog.at
DTSTAMP:20260426T004834Z
DTSTART:20260426T150000Z
DTEND:20260426T163000Z
SUMMARY:AmadeusChor - Giganten - Gustav Mahler + Anton Bruckner
DESCRIPTION:Der AmadeusChor präsentiert Mahlers Lieder und Bruckners Motetten a cappella, begleitet von Violinistin Martina Trump.\n\nhttps://eventfrog.at/de/p/konzerte/chor/amadeuschor-giganten-gustav-mahler-anton-bruckner-7450517443171093425.html
LOCATION:Hotel Dorfmühle
GEO:49.343219;10.509291
URL:https://eventfrog.at/de/p/konzerte/chor/amadeuschor-giganten-gustav-mahler-anton-bruckner-7450517443171093425.html
END:VEVENT
END:VCALENDAR