BEGIN:VCALENDAR
VERSION:2.0
PRODID:EVENTFROG//EVENT//ICAL
BEGIN:VEVENT
UID:20260419T142740Z-7450516577781320515@eventfrog.at
DTSTAMP:20260419T142740Z
DTSTART:20260527T180000Z
SUMMARY:Hardy Rittner - Chopins vergessene Cantilene
DESCRIPTION:Der Ausnahmepianist Hardy Rittner stellt in seiner unnachahmlich introvertiert-expressiven Manier sein diesjähriges Chopinprogramm vor. \n\nhttps://eventfrog.at/de/p/klassik-opern/klassik/hardy-rittner-chopins-vergessene-cantilene-7450516577781320515.html
LOCATION:Münchner Künstlerhaus
GEO:48.140237;11.567712
URL:https://eventfrog.at/de/p/klassik-opern/klassik/hardy-rittner-chopins-vergessene-cantilene-7450516577781320515.html
END:VEVENT
END:VCALENDAR