BEGIN:VCALENDAR
VERSION:2.0
PRODID:EVENTFROG//EVENT//ICAL
BEGIN:VEVENT
UID:20260423T032745Z-7450463410083368058@eventfrog.at
DTSTAMP:20260423T032745Z
DTSTART:20260619T173000Z
DTEND:20260619T193000Z
SUMMARY:Klavierabend „Klangperlen“ mit Catherine Gordeladze
DESCRIPTION:Klangperlen-Wiener Charme und Pariser Brillanz: die renommierte georgisch-deutsche Pianistin, Chopin Preisträgerin Catherine Gordeladze spielt Meisterwerke der klassisch-romantischen Klavierliteratur.\n\nhttps://eventfrog.at/de/p/klassik-opern/klassik/klavierabend-klangperlen-mit-catherine-gordeladze-7450463410083368058.html
LOCATION:Gasteig HP8, Saal X
GEO:48.110020;11.552953
URL:https://eventfrog.at/de/p/klassik-opern/klassik/klavierabend-klangperlen-mit-catherine-gordeladze-7450463410083368058.html
END:VEVENT
END:VCALENDAR