BEGIN:VCALENDAR
VERSION:2.0
PRODID:EVENTFROG//EVENT//ICAL
BEGIN:VEVENT
UID:20260425T212420Z-7450456892755703995@eventfrog.at
DTSTAMP:20260425T212420Z
DTSTART:20260430T153000Z
DTEND:20260430T173000Z
SUMMARY:Hexenparty für Kinder
DESCRIPTION:Spaß\nFun\nKünstliches Feuer\nHeiße Würstchen \n\nEintritt frei \nTrinken \n\nhttps://eventfrog.at/de/p/kinderveranstaltungen/kinderparty/hexenparty-fuer-kinder-7450456892755703995.html
LOCATION:Spielplatz am Frauenberg
GEO:50.562296;9.668979
URL:https://eventfrog.at/de/p/kinderveranstaltungen/kinderparty/hexenparty-fuer-kinder-7450456892755703995.html
END:VEVENT
END:VCALENDAR