BEGIN:VCALENDAR
VERSION:2.0
PRODID:EVENTFROG//EVENT//ICAL
BEGIN:VEVENT
UID:20260425T161417Z-7450442320745374771@eventfrog.at
DTSTAMP:20260425T161417Z
DTSTART:20260620T080000Z
DTEND:20260620T130000Z
SUMMARY:"Alles mal anders" Turnier 2026
DESCRIPTION:Der VfL Tremsbüttel veranstaltet am 20. Juni 2026 ein besonderes Schüler- und Jugend-Bogenturnier mit abweichenden Wettkampfregeln. Hier wird alles mal anders sein.\n\nhttps://eventfrog.at/de/p/sport-fitness/sonstige-veranstaltungen/alles-mal-anders-turnier-2026-7450442320745374771.html
LOCATION:VfL Tremsbüttel
GEO:53.741815;10.310215
URL:https://eventfrog.at/de/p/sport-fitness/sonstige-veranstaltungen/alles-mal-anders-turnier-2026-7450442320745374771.html
END:VEVENT
END:VCALENDAR