BEGIN:VCALENDAR
VERSION:2.0
PRODID:EVENTFROG//EVENT//ICAL
BEGIN:VEVENT
UID:20260425T225202Z-7450415251189712734@eventfrog.at
DTSTAMP:20260425T225202Z
DTSTART:20260425T180000Z
SUMMARY:Heart & Bones
DESCRIPTION:Songs of a century\n\nhttps://eventfrog.at/de/p/konzerte/pop-rock/heart-bones-7450415251189712734.html
LOCATION:Zum fröhlichen Nix
GEO:48.412830;9.784689
URL:https://eventfrog.at/de/p/konzerte/pop-rock/heart-bones-7450415251189712734.html
END:VEVENT
END:VCALENDAR