BEGIN:VCALENDAR
VERSION:2.0
PRODID:EVENTFROG//EVENT//ICAL
BEGIN:VEVENT
UID:20260421T224857Z-7450414235371190225@eventfrog.at
DTSTAMP:20260421T224857Z
DTSTART:20260424T173000Z
SUMMARY:Christina Martin
DESCRIPTION:The Essentials Tour\n\nhttps://eventfrog.at/de/p/konzerte/pop-rock/christina-martin-7450414235371190225.html
LOCATION:Zum fröhlichen Nix
GEO:48.412830;9.784689
URL:https://eventfrog.at/de/p/konzerte/pop-rock/christina-martin-7450414235371190225.html
END:VEVENT
END:VCALENDAR