BEGIN:VCALENDAR
VERSION:2.0
PRODID:EVENTFROG//EVENT//ICAL
BEGIN:VEVENT
UID:20260425T164614Z-7450300905759465607@eventfrog.at
DTSTAMP:20260425T164614Z
DTSTART:20260509T213000Z
SUMMARY:In/die Disco
DESCRIPTION:In/die Disco\n\nhttps://eventfrog.at/de/p/partys/in-die-disco-7450300905759465607.html
LOCATION:Albani
GEO:47.498480;8.729190
URL:https://eventfrog.at/de/p/partys/in-die-disco-7450300905759465607.html
END:VEVENT
END:VCALENDAR