BEGIN:VCALENDAR
VERSION:2.0
PRODID:EVENTFROG//EVENT//ICAL
BEGIN:VEVENT
UID:20260424T195742Z-7450271974784281586@eventfrog.at
DTSTAMP:20260424T195742Z
DTSTART:20260426T160000Z
DTEND:20260426T184500Z
SUMMARY:Rockenhausen. Dokumentarfillm "An der Seite Bruno Grönings"
DESCRIPTION:Dokumentarfilm mit anschließendem kurzem Informationsvortrag über die Lehre Bruno Grönings und die Anwendung für sich selbst.\n\nhttps://eventfrog.at/de/p/gesundheit-spiritualitaet/gesundheit-wohlbefinden/rockenhausen-dokumentarfillm-an-der-seite-bruno-groenings-7450271974784281586.html
LOCATION:Donnersberghalle
GEO:49.623270;7.820086
URL:https://eventfrog.at/de/p/gesundheit-spiritualitaet/gesundheit-wohlbefinden/rockenhausen-dokumentarfillm-an-der-seite-bruno-groenings-7450271974784281586.html
END:VEVENT
END:VCALENDAR