BEGIN:VCALENDAR
VERSION:2.0
PRODID:EVENTFROG//EVENT//ICAL
BEGIN:VEVENT
UID:20260421T042856Z-7450191729347542399@eventfrog.at
DTSTAMP:20260421T042856Z
DTSTART:20260613T090000Z
DTEND:20260614T150000Z
SUMMARY:DIPverse BELGIUM
DESCRIPTION:2 days, 8 masterclasses, 1 passion.\nDIPverse BELGIUM  I EDITION.\n\nhttps://eventfrog.at/en/p/theatre-stage/dance/dipverse-belgium-7450191729347542399.html
LOCATION:MOMENTUM DANCE ACADEMY
URL:https://eventfrog.at/en/p/theatre-stage/dance/dipverse-belgium-7450191729347542399.html
END:VEVENT
END:VCALENDAR