BEGIN:VCALENDAR
VERSION:2.0
PRODID:EVENTFROG//EVENT//ICAL
BEGIN:VEVENT
UID:20260422T191904Z-7450157045444014316@eventfrog.at
DTSTAMP:20260422T191904Z
DTSTART:20260526T170000Z
SUMMARY:Anschläge auf das Berliner Stromnetz
DESCRIPTION:Fachpersonen diskutieren Schutz der kritischen Infrastruktur nach Blackout in Berlin wegen mutmasslichem Cyberangriff.\n\nhttps://eventfrog.at/de/p/fuehrungen-vortraege/podium/anschlaege-auf-das-berliner-stromnetz-7450157045444014316.html
LOCATION:Deutsches Spionagemuseum
GEO:52.509617;13.378148
URL:https://eventfrog.at/de/p/fuehrungen-vortraege/podium/anschlaege-auf-das-berliner-stromnetz-7450157045444014316.html
END:VEVENT
END:VCALENDAR