BEGIN:VCALENDAR
VERSION:2.0
PRODID:EVENTFROG//EVENT//ICAL
BEGIN:VEVENT
UID:20260419T165028Z-7450141588230005477@eventfrog.at
DTSTAMP:20260419T165028Z
DTSTART:20260519T170000Z
DTEND:20260519T180000Z
SUMMARY:Dauerstress? Mentale Klarheit trotz voller Verantwortung
DESCRIPTION:Onlinekurs über 6 Wochen vermittelt die Coué-Methode zur bewussten Gedankenführung für mehr Ruhe und Selbstbestimmung.\n\nhttps://eventfrog.at/de/p/gesundheit-spiritualitaet/gesundheit-wohlbefinden/dauerstress-mentale-klarheit-trotz-voller-verantwortung-7450141588230005477.html
LOCATION:Raus aus dem Dauerstress
URL:https://eventfrog.at/de/p/gesundheit-spiritualitaet/gesundheit-wohlbefinden/dauerstress-mentale-klarheit-trotz-voller-verantwortung-7450141588230005477.html
END:VEVENT
END:VCALENDAR