BEGIN:VCALENDAR
VERSION:2.0
PRODID:EVENTFROG//EVENT//ICAL
BEGIN:VEVENT
UID:20260424T095813Z-7450139846562029900@eventfrog.at
DTSTAMP:20260424T095813Z
DTSTART:20260430T160000Z
DTEND:20260430T200000Z
SUMMARY:Ceviche. Eine Reise nach Peru.
DESCRIPTION:Mehr als ein Kochkurs. Eine Reise nach Peru.\n\nhttps://eventfrog.at/de/p/essen-trinken/ceviche-eine-reise-nach-peru-7450139846562029900.html
LOCATION:Das Scherzhaus
GEO:46.923498;7.414655
URL:https://eventfrog.at/de/p/essen-trinken/ceviche-eine-reise-nach-peru-7450139846562029900.html
END:VEVENT
END:VCALENDAR