BEGIN:VCALENDAR
VERSION:2.0
PRODID:EVENTFROG//EVENT//ICAL
BEGIN:VEVENT
UID:20260424T095804Z-7450136265595326431@eventfrog.at
DTSTAMP:20260424T095804Z
DTSTART:20260509T163000Z
DTEND:20260509T200000Z
SUMMARY:Pe Sabores del Perú
DESCRIPTION:Unser peruanischer Koch bringt die Aromen seiner Heimat direkt nach Köniz. Dich erwartet ein exklusives, mehrgängiges Menü – authentisch, raffiniert und voller überraschender Geschmackserlebnisse.\n\nhttps://eventfrog.at/de/p/essen-trinken/pe-sabores-del-peru-7450136265595326431.html
LOCATION:Das Scherzhaus
GEO:46.923498;7.414655
URL:https://eventfrog.at/de/p/essen-trinken/pe-sabores-del-peru-7450136265595326431.html
END:VEVENT
END:VCALENDAR