BEGIN:VCALENDAR
VERSION:2.0
PRODID:EVENTFROG//EVENT//ICAL
BEGIN:VEVENT
UID:20260424T062242Z-7450096965134585671@eventfrog.at
DTSTAMP:20260424T062242Z
DTSTART:20261106T190000Z
DTEND:20261106T210000Z
SUMMARY:Timeless Moments
DESCRIPTION:Der Timeless-Chor aus dem Waldenburgertal singt zeitlose Rock- und Popsongs im Marabu Gelterkinden. Türöffnung um 19:30 Uhr.\n\nhttps://eventfrog.at/de/p/konzerte/chor/timeless-moments-7450096965134585671.html
LOCATION:Kultur Marabu
GEO:47.465135;7.856058
URL:https://eventfrog.at/de/p/konzerte/chor/timeless-moments-7450096965134585671.html
END:VEVENT
END:VCALENDAR