BEGIN:VCALENDAR
VERSION:2.0
PRODID:EVENTFROG//EVENT//ICAL
BEGIN:VEVENT
UID:20260422T083412Z-7450083794453798041@eventfrog.at
DTSTAMP:20260422T083412Z
DTSTART:20260516T080000Z
DTEND:20260517T160000Z
SUMMARY:MMC-Berlin 2026
DESCRIPTION:Am 16. und 17. Mai 2026 findet die MMC-Berlin mit Gaming-Turnieren, Workshops und Cosplay-Wettbewerben statt.\n\nhttps://eventfrog.at/de/p/festivals/weitere-festivals/mmc-berlin-2026-7450083794453798041.html
LOCATION:Fontane Haus Kulturzentrum
GEO:52.597640;13.352250
URL:https://eventfrog.at/de/p/festivals/weitere-festivals/mmc-berlin-2026-7450083794453798041.html
END:VEVENT
END:VCALENDAR