BEGIN:VCALENDAR
VERSION:2.0
PRODID:EVENTFROG//EVENT//ICAL
BEGIN:VEVENT
UID:20260420T192652Z-7450079185643529148@eventfrog.at
DTSTAMP:20260420T192652Z
DTSTART:20260922T100000Z
DTEND:20260922T140000Z
SUMMARY:Red Ladies Wiesn
DESCRIPTION:Bei der Ladies Red Wiesn gibt es ein 3-Gänge-Wiesn-Menü mit Wein, Bier und Wasser zugunsten des Hauner Vereins.\n\nhttps://eventfrog.at/de/p/essen-trinken/red-ladies-wiesn-7450079185643529148.html
LOCATION:Wildstuben
GEO:48.131651;11.549571
URL:https://eventfrog.at/de/p/essen-trinken/red-ladies-wiesn-7450079185643529148.html
END:VEVENT
END:VCALENDAR