BEGIN:VCALENDAR
VERSION:2.0
PRODID:EVENTFROG//EVENT//ICAL
BEGIN:VEVENT
UID:20260419T183858Z-7450005143083339109@eventfrog.at
DTSTAMP:20260419T183858Z
DTSTART:20260502T160000Z
DTEND:20260502T180000Z
SUMMARY:Ave Maria - Marienmusik aus dem venezianischen Barock
DESCRIPTION:Ensemble Grenzklang: Frühe venezianische Marienmusik in der Wallfahrtskirche Notre-Dame de Bourguillon. Monteverdi u. a. Eintritt frei.\n\nhttps://eventfrog.at/de/p/klassik-opern/klassik/ave-maria-marienmusik-aus-dem-venezianischen-barock-7450005143083339109.html
LOCATION:Bürglenkapelle
GEO:46.800106;7.176723
URL:https://eventfrog.at/de/p/klassik-opern/klassik/ave-maria-marienmusik-aus-dem-venezianischen-barock-7450005143083339109.html
END:VEVENT
END:VCALENDAR