BEGIN:VCALENDAR
VERSION:2.0
PRODID:EVENTFROG//EVENT//ICAL
BEGIN:VEVENT
UID:20260424T081031Z-7449940623321262414@eventfrog.at
DTSTAMP:20260424T081031Z
DTSTART:20260705T153000Z
SUMMARY:Sommerkonzert Sarastro Quartett
DESCRIPTION:Sommerkonzert Sarastro Quartett\n\nhttps://eventfrog.at/de/p/konzerte/sommerkonzert-sarastro-quartett-7449940623321262414.html
LOCATION:Schloss Kyburg
GEO:47.458328;8.743304
URL:https://eventfrog.at/de/p/konzerte/sommerkonzert-sarastro-quartett-7449940623321262414.html
END:VEVENT
END:VCALENDAR