BEGIN:VCALENDAR
VERSION:2.0
PRODID:EVENTFROG//EVENT//ICAL
BEGIN:VEVENT
UID:20260424T072637Z-7449885403694291198@eventfrog.at
DTSTAMP:20260424T072637Z
DTSTART:20260614T143000Z
DTEND:20260614T163000Z
SUMMARY:L-danse Spectacle 2026
DESCRIPTION:Spectacle de danse \nL-danse présente Resto'Scène\n\nhttps://eventfrog.at/fr/p/divers/l-danse-spectacle-2026-7449885403694291198.html
LOCATION:CO Sarine Ouest
GEO:46.784888;7.076136
URL:https://eventfrog.at/fr/p/divers/l-danse-spectacle-2026-7449885403694291198.html
END:VEVENT
END:VCALENDAR