BEGIN:VCALENDAR
VERSION:2.0
PRODID:EVENTFROG//EVENT//ICAL
BEGIN:VEVENT
UID:20260421T005810Z-7449853965108291374@eventfrog.at
DTSTAMP:20260421T005810Z
DTSTART:20260424T190000Z
DTEND:20260425T030000Z
SUMMARY:Aprés Chalet - Season Final - Wasen Special
DESCRIPTION:Am 24.04.2026 bringt das Wasen Special House Music und Après-Ski-Atmosphäre zum Saisonfinale im Comodo.\n\nhttps://eventfrog.at/de/p/partys/house-techno/apres-chalet-season-final-wasen-special-7449853965108291374.html
LOCATION:Comodo
GEO:48.774257;9.177753
URL:https://eventfrog.at/de/p/partys/house-techno/apres-chalet-season-final-wasen-special-7449853965108291374.html
END:VEVENT
END:VCALENDAR