BEGIN:VCALENDAR
VERSION:2.0
PRODID:EVENTFROG//EVENT//ICAL
BEGIN:VEVENT
UID:20260420T024815Z-7449803027093936760@eventfrog.at
DTSTAMP:20260420T024815Z
DTSTART:20260422T180000Z
SUMMARY:enni.Comedy Salon
DESCRIPTION:Christin Jugsch moderiert ab 2026 den enni.comedy Salon mit drei Top-Comedians im Bollwerk 107 für zwei Stunden Humor.\n\nhttps://eventfrog.at/de/p/theater-buehne/comedy-kabarett/enni-comedy-salon-7449803027093936760.html
LOCATION:Bollwerk 107, Zum Bollwerk 107, 47441 Moers
GEO:51.451604;6.640815
URL:https://eventfrog.at/de/p/theater-buehne/comedy-kabarett/enni-comedy-salon-7449803027093936760.html
END:VEVENT
END:VCALENDAR