BEGIN:VCALENDAR
VERSION:2.0
PRODID:EVENTFROG//EVENT//ICAL
BEGIN:VEVENT
UID:20260419T181446Z-7449798768902306739@eventfrog.at
DTSTAMP:20260419T181446Z
DTSTART:20260421T170000Z
SUMMARY:Basketball game visit
DESCRIPTION:Come and watch Fribourg Olympic play on the 21. April.\n\nhttps://eventfrog.at/de/p/sport-fitness/basketball/basketball-game-visit-7449798768902306739.html
LOCATION:BCF Arena in Fribourg
GEO:46.817359;7.157180
URL:https://eventfrog.at/de/p/sport-fitness/basketball/basketball-game-visit-7449798768902306739.html
END:VEVENT
END:VCALENDAR