BEGIN:VCALENDAR
VERSION:2.0
PRODID:EVENTFROG//EVENT//ICAL
BEGIN:VEVENT
UID:20260422T204753Z-7449781727382213429@eventfrog.at
DTSTAMP:20260422T204753Z
DTSTART:20260529T180000Z
DTEND:20260529T230000Z
SUMMARY:Discofox-Nacht
DESCRIPTION:Heute Discofox-Nacht im Ballhaus Wedding mit DJ Teddy, Häppchen und tanzbaren Hits zum Wegtanzen der Weihnachtspolster.\n\nhttps://eventfrog.at/de/p/partys/60-s/discofox-nacht-7449781727382213429.html
LOCATION:Ballhaus Wedding
GEO:52.556611;13.388830
URL:https://eventfrog.at/de/p/partys/60-s/discofox-nacht-7449781727382213429.html
END:VEVENT
END:VCALENDAR