BEGIN:VCALENDAR
VERSION:2.0
PRODID:EVENTFROG//EVENT//ICAL
BEGIN:VEVENT
UID:20260419T215344Z-7449780812642275536@eventfrog.at
DTSTAMP:20260419T215344Z
DTSTART:20260504T130000Z
DTEND:20260504T160000Z
SUMMARY:Mitsing-Café
DESCRIPTION:KlangZeit: an jedem ersten Montag im Monat\nZeit für miteinander, Musik & mehr!\n\nhttps://eventfrog.at/de/p/konzerte/a-cappella-vocal/mitsing-cafe-7449780812642275536.html
LOCATION:Paul Gerhardt Stift
GEO:52.554108;13.346047
URL:https://eventfrog.at/de/p/konzerte/a-cappella-vocal/mitsing-cafe-7449780812642275536.html
END:VEVENT
END:VCALENDAR