BEGIN:VCALENDAR
VERSION:2.0
PRODID:EVENTFROG//EVENT//ICAL
BEGIN:VEVENT
UID:20260423T072930Z-7449775994783690695@eventfrog.at
DTSTAMP:20260423T072930Z
DTSTART:20260703T073000Z
DTEND:20260703T093000Z
SUMMARY:Öffentl. Sprechstunde der AG Horster Ortsarchiv in der VHS
DESCRIPTION:Öffentliche Sprechstunde der AG Horster Ortsarchiv in der VHS Horst (Holstein)\n\nhttps://eventfrog.at/de/p/kurse-seminare/freizeit-hobby/oeffentl-sprechstunde-der-ag-horster-ortsarchiv-in-der-vhs-7449775994783690695.html
LOCATION:Vereinshaus "Op de Host"
GEO:53.810910;9.615850
URL:https://eventfrog.at/de/p/kurse-seminare/freizeit-hobby/oeffentl-sprechstunde-der-ag-horster-ortsarchiv-in-der-vhs-7449775994783690695.html
END:VEVENT
END:VCALENDAR